
BEGIN:VCALENDAR
VERSION:2.0
PRODID:-//Asit Online Store - ECPv4.9.14//NONSGML v1.0//EN
CALSCALE:GREGORIAN
METHOD:PUBLISH
X-WR-CALNAME:Asit Online Store
X-ORIGINAL-URL:https://www.asit.it
X-WR-CALDESC:Eventi per Asit Online Store
BEGIN:VTIMEZONE
TZID:UTC
BEGIN:STANDARD
TZOFFSETFROM:+0000
TZOFFSETTO:+0000
TZNAME:UTC
DTSTART:20210101T000000
END:STANDARD
END:VTIMEZONE
BEGIN:VEVENT
DTSTART;TZID=UTC:20210204T160000
DTEND;TZID=UTC:20210204T160000
DTSTAMP:20260423T094756
CREATED:20210126T153103Z
LAST-MODIFIED:20210126T153431Z
UID:36096-1612454400-1612454400@www.asit.it
SUMMARY:Yealink | Training Cuffie DECT WH6X
DESCRIPTION:Yealink ha presentato le nuove cuffie wireless DECT serie WH6. Combinando un design altamente compatto con una ricca performance di comunicazione vocale\, le cuffie wireless #WH6 DECT sono dedicate a tutti gli utenti di spazi privati o di coworking. \nProgramma: \n\nIntroduzione del prodotto e posizione\nCaratteristiche chiave\nSoluzioni\n\n \nLINK ISCRIZIONE \n
URL:https://www.asit.it/evento/yealink-training-cuffie-dect-wh6x-2/
LOCATION:ONLINE\, Italia
ATTACH;FMTTYPE=image/png:https://www.asit.it/wp-content/uploads/2021/01/articolo_blog_yealink_cuffie_wh6-1.png
END:VEVENT
END:VCALENDAR