
BEGIN:VCALENDAR
VERSION:2.0
PRODID:-//Asit Online Store - ECPv4.9.14//NONSGML v1.0//EN
CALSCALE:GREGORIAN
METHOD:PUBLISH
X-WR-CALNAME:Asit Online Store
X-ORIGINAL-URL:https://www.asit.it
X-WR-CALDESC:Eventi per Asit Online Store
BEGIN:VTIMEZONE
TZID:UTC
BEGIN:STANDARD
TZOFFSETFROM:+0000
TZOFFSETTO:+0000
TZNAME:UTC
DTSTART:20230101T000000
END:STANDARD
END:VTIMEZONE
BEGIN:VEVENT
DTSTART;TZID=UTC:20230421T110000
DTEND;TZID=UTC:20230421T120000
DTSTAMP:20260419T161100
CREATED:20230323T075113Z
LAST-MODIFIED:20230327T100746Z
UID:42462-1682074800-1682078400@www.asit.it
SUMMARY:Webinar - Infrastruttura di trasporto dati: dalla VERIFICA alla CERTIFICAZIONE
DESCRIPTION:Descrizione\nIl mercato offre molti strumenti che permettono di testare le performance dell’impianto di trasmissione dati RAME o FIBRA. La forbice relativa all’investimento è molto ampia e passa da qualche centinaia di euro fino a qualche decina di migliaia. \nMa quale è l’investimento giusto che copre le nostre esigenze di misura? \n\n\n\nPartecipando al webinar il 21 Aprile alle 11:00 scoprirai gli strumenti per un investimento migliore valorizzando il nostro lavoro. \nRegistrati al webinar 
URL:https://www.asit.it/evento/webinar-infrastruttura-di-trasporto-dati-dalla-verifica-alla-certificazione/
LOCATION:ONLINE\, Italia
ATTACH;FMTTYPE=image/jpeg:https://www.asit.it/wp-content/uploads/2023/03/Webinar-Fluke-scaled.jpg
ORGANIZER;CN="ASIT%20SPA":MAILTO:marketing@asit.it
END:VEVENT
END:VCALENDAR