
BEGIN:VCALENDAR
VERSION:2.0
PRODID:-//Asit Online Store - ECPv4.9.14//NONSGML v1.0//EN
CALSCALE:GREGORIAN
METHOD:PUBLISH
X-WR-CALNAME:Asit Online Store
X-ORIGINAL-URL:https://www.asit.it
X-WR-CALDESC:Eventi per Asit Online Store
BEGIN:VTIMEZONE
TZID:UTC
BEGIN:STANDARD
TZOFFSETFROM:+0000
TZOFFSETTO:+0000
TZNAME:UTC
DTSTART:20240101T000000
END:STANDARD
END:VTIMEZONE
BEGIN:VEVENT
DTSTART;TZID=UTC:20240424T100000
DTEND;TZID=UTC:20240424T233000
DTSTAMP:20260424T095317
CREATED:20240409T112945Z
LAST-MODIFIED:20240409T112945Z
UID:47374-1713952800-1714001400@www.asit.it
SUMMARY:Sicurezza Urbana e Controlli Accessi Selea
DESCRIPTION:Webinar incentrato sulla presentazione delle nuove soluzioni a portafoglio targate SELEA\, leader nella produzione di telecamere  ANPR-OCR. \nL’evento online\, organizzato da Asit\, vedrà alternarsi tecnici professionisti della realtà SELEA che presenteranno e illustreranno le nuove soluzioni di Sicurezza Urbana e Controlli Accessi. \nAgenda e Relatori:\nOre 10:00 : SIMONE ZANI – Sales Manager Selea: Saluti Introduttivi \nOre 10:15 : NABIH DAKRI – Resp. Formativo interno e Assistenza di 1° livello Selea – Presentazione prodotti SELEA – TARGA 950 e videoanalisi  \nOre 10:35 : MICHELE PRADELLA – R&D Software Engineer Selea –Presentazione Software CPS per la Sicurezza Urbana \nOre 11:05 : ALESSANDRO TAGLIATI – R&D Software Projects Manager Selea –Presentazione nuovo Software QEntry per il Controllo Accessi \nOre 11:25 : Spazio domande. \nNon mancare all’appuntamento! \nPartecipa al webinar prenotando il tuo posto al seguente link. \nLink iscrizione \n  \n
URL:https://www.asit.it/evento/sicurezza-urbana-e-controlli-accessi-selea/
ATTACH;FMTTYPE=image/png:https://www.asit.it/wp-content/uploads/2024/04/Risorsa-1.png
ORGANIZER;CN="ASIT%20SPA":MAILTO:marketing@asit.it
END:VEVENT
END:VCALENDAR