
BEGIN:VCALENDAR
VERSION:2.0
PRODID:-//Asit Online Store - ECPv4.9.14//NONSGML v1.0//EN
CALSCALE:GREGORIAN
METHOD:PUBLISH
X-WR-CALNAME:Asit Online Store
X-ORIGINAL-URL:https://www.asit.it
X-WR-CALDESC:Eventi per Asit Online Store
BEGIN:VTIMEZONE
TZID:UTC
BEGIN:STANDARD
TZOFFSETFROM:+0000
TZOFFSETTO:+0000
TZNAME:UTC
DTSTART:20210101T000000
END:STANDARD
END:VTIMEZONE
BEGIN:VEVENT
DTSTART;TZID=UTC:20210323T150000
DTEND;TZID=UTC:20210323T170000
DTSTAMP:20260423T122952
CREATED:20210302T080659Z
LAST-MODIFIED:20210302T084850Z
UID:36732-1616511600-1616518800@www.asit.it
SUMMARY:Ribbon | Workshop Ribbon Direct Routing as a Service
DESCRIPTION:Durante questa sessione configureremo un tenant Microsoft in modo che gli utenti possano usare il plug-in di telefonia e poter effettuare / ricevere chiamate in Teams. \nPotrai assistere alla sessione in modalità listener o in modalità “laboratorio”. \nNel secondo caso\, dovremo fornirti un account demo Ribbon Connect 24 ore prima dell’inizio della formazione. Nella sessione spiegheremo come distribuire un tenant di prova con 25 licenze E5\, valide per 30 giorni e come connettere un IP-PBX o un SIP Trunk a Teams tramite il servizio Ribbon Connect DRaaS. \nNon perdere questa sessione se vuoi sapere come configurare il Direct Routing nei tuoi client in meno di 30 minuti !!! \n
URL:https://www.asit.it/evento/ribbon-workshop-ribbon-direct-routing-as-a-service/
LOCATION:ONLINE\, Italia
ATTACH;FMTTYPE=image/png:https://www.asit.it/wp-content/uploads/2021/02/ribbon_teams.png
END:VEVENT
END:VCALENDAR