
BEGIN:VCALENDAR
VERSION:2.0
PRODID:-//Asit Online Store - ECPv4.9.14//NONSGML v1.0//EN
CALSCALE:GREGORIAN
METHOD:PUBLISH
X-WR-CALNAME:Asit Online Store
X-ORIGINAL-URL:https://www.asit.it
X-WR-CALDESC:Eventi per Asit Online Store
BEGIN:VTIMEZONE
TZID:UTC
BEGIN:STANDARD
TZOFFSETFROM:+0000
TZOFFSETTO:+0000
TZNAME:UTC
DTSTART:20210101T000000
END:STANDARD
END:VTIMEZONE
BEGIN:VEVENT
DTSTART;TZID=UTC:20210303T150000
DTEND;TZID=UTC:20210303T160000
DTSTAMP:20260423T111814
CREATED:20210326T085239Z
LAST-MODIFIED:20210326T092550Z
UID:36728-1614783600-1614787200@www.asit.it
SUMMARY:Ribbon | Webinar mensile Microsoft Teams
DESCRIPTION:Partecipa mercoledì 3 marzo alle 15:00 al webinar mensile per approfondire la conoscenza del portfolio di Ribbon e sulle possibilità di integrare e migliorare l’offerta di MS Teams come Cloud PBX. \nAgenda \n\nSIPREC & Recordings in Microsoft Teams\nRibbon Connect – next steps\nCaso di uso: Ribbon SBC e Avaya IP Office\n\nRelatore: Andrea Patria di Ribbon Communications Italia \n
URL:https://www.asit.it/evento/ribbon-webinar-mensile-microsoft-teams-2/
LOCATION:ONLINE\, Italia
ATTACH;FMTTYPE=image/png:https://www.asit.it/wp-content/uploads/2021/02/ribbon_teams.png
END:VEVENT
END:VCALENDAR