
BEGIN:VCALENDAR
VERSION:2.0
PRODID:-//Asit Online Store - ECPv4.9.14//NONSGML v1.0//EN
CALSCALE:GREGORIAN
METHOD:PUBLISH
X-WR-CALNAME:Asit Online Store
X-ORIGINAL-URL:https://www.asit.it
X-WR-CALDESC:Eventi per Asit Online Store
BEGIN:VTIMEZONE
TZID:UTC
BEGIN:STANDARD
TZOFFSETFROM:+0000
TZOFFSETTO:+0000
TZNAME:UTC
DTSTART:20190101T000000
END:STANDARD
END:VTIMEZONE
BEGIN:VEVENT
DTSTART;TZID=UTC:20190621T093000
DTEND;TZID=UTC:20190621T140000
DTSTAMP:20260423T144838
CREATED:20190502T143643Z
LAST-MODIFIED:20190508T074322Z
UID:29061-1561109400-1561125600@www.asit.it
SUMMARY:Panduit | Open Day Torino
DESCRIPTION:Asit in collaborazione con Panduit organizza un incontro di mezza giornata con lo scopo di presentare le più recenti soluzioni datacenter e building infrastructure. \nL’incontro è gratuito e si svolge dalle 9.30 alle 14:00 con colazione e light lunch inclusi. \nIl programma\n\n\n\n9:30\nColazione e apertura lavori\n\n\n10:00 – 11:30\nPresentazione soluzioni datacenter e building infrastructure\n\n\n11:30 – 14:00\nLight Lunch\n\n\n\nIscriviti all’evento \n
URL:https://www.asit.it/evento/panduit-open-day-torino/
LOCATION:ASIT Torino\, Via Goretta 90/F\, Mappano\, TO\, 10079\, Italia
ATTACH;FMTTYPE=image/jpeg:https://www.asit.it/wp-content/uploads/2019/05/asit_evento_panduit_01.jpg
ORGANIZER;CN="ASIT%20SPA":MAILTO:marketing@asit.it
END:VEVENT
END:VCALENDAR