
BEGIN:VCALENDAR
VERSION:2.0
PRODID:-//Asit Online Store - ECPv4.9.14//NONSGML v1.0//EN
CALSCALE:GREGORIAN
METHOD:PUBLISH
X-WR-CALNAME:Asit Online Store
X-ORIGINAL-URL:https://www.asit.it
X-WR-CALDESC:Eventi per Asit Online Store
BEGIN:VTIMEZONE
TZID:UTC
BEGIN:STANDARD
TZOFFSETFROM:+0000
TZOFFSETTO:+0000
TZNAME:UTC
DTSTART:20260101T000000
END:STANDARD
END:VTIMEZONE
BEGIN:VEVENT
DTSTART;TZID=UTC:20260326T090000
DTEND;TZID=UTC:20260326T170000
DTSTAMP:20260423T133327
CREATED:20260323T082300Z
LAST-MODIFIED:20260323T082300Z
UID:51493-1774515600-1774544400@www.asit.it
SUMMARY:Leviton Academy
DESCRIPTION:A seguito dell’evoluzione delle infrastrutture digitali e della crescente domanda di connettività ad alte prestazioni\, ASIT Spa organizza una sessione di formazione tecnica dedicata alle soluzioni d’avanguardia che stanno ridefinendo gli standard del cablaggio strutturato. \nL’incontro offrirà una panoramica esclusiva sulle innovazioni sviluppate dal nostro partner LEVITON\, con un focus specifico sulle pratiche di posa\, attestazione e certificazione dei sistemi in rame e fibra ottica. L’evento rappresenta un’opportunità strategica per approfondire le procedure operative della Leviton Academy\, necessarie per garantire l’efficienza e la qualità delle reti di comunicazione elettronica ICT. \nDettagli dell’evento:\n\n\nData: 26 Marzo 2026 \n\n\nLocation: Filiale ASIT | Vicenza al SIMAL BUSINESS CENTER \n\n\nProgramma\n\n\n\nOre 09:00 – Welcome Coffe Di Benvenuto\n\n\nOre 09:30 – Corporate News & Innovation\n\n\nOre 09:45 – Aggiornamento Normative Internazionali\n\n\nOre 11:00 – Caratteristiche di un Generic Cabling System:\nMTPL\, CP Zone\, Cabling DC\, Smart Building\n\n\nOre 12:00 – Analisi Linee di Prodotto SB & DC\n\n\nOre 13:00 – Pranzo\n\n\nOre 14:30 – Progetti Reti in FO prodotti e Tecnologie\n\n\nOre 15:30 – Tendenze di Mercato in Fibra: Datacentre High Speed\, Cloud\, Edge\, 5G\n\n\nOre 16:30 – Lab Room: Test e Certificazione Rame/Fibra.\nRilascio Garanzia dei 25 anni Leviton\n\n\n\nVi aspettiamo. \n
URL:https://www.asit.it/evento/leviton-academy/
LOCATION:ASIT VICENZA\, Via Zamenhof\, 817\, Vicenza\, Vicenza\, 36100\, Italia
ATTACH;FMTTYPE=image/webp:https://www.asit.it/wp-content/uploads/2026/03/Leviton-Academy.webp
ORGANIZER;CN="ASIT%20SPA":MAILTO:marketing@asit.it
END:VEVENT
END:VCALENDAR