
BEGIN:VCALENDAR
VERSION:2.0
PRODID:-//Asit Online Store - ECPv4.9.14//NONSGML v1.0//EN
CALSCALE:GREGORIAN
METHOD:PUBLISH
X-WR-CALNAME:Asit Online Store
X-ORIGINAL-URL:https://www.asit.it
X-WR-CALDESC:Eventi per Asit Online Store
BEGIN:VTIMEZONE
TZID:UTC
BEGIN:STANDARD
TZOFFSETFROM:+0000
TZOFFSETTO:+0000
TZNAME:UTC
DTSTART:20190101T000000
END:STANDARD
END:VTIMEZONE
BEGIN:VEVENT
DTSTART;TZID=UTC:20191119T093000
DTEND;TZID=UTC:20191119T123000
DTSTAMP:20260423T133325
CREATED:20190826T070837Z
LAST-MODIFIED:20191021T130330Z
UID:30639-1574155800-1574166600@www.asit.it
SUMMARY:Fluke | Open Day Milano
DESCRIPTION:Partecipa all’incontro con Fluke Networks che si terrà il 19 novembree a Milano. Scopri le soluzioni o come ottenere il massimo dal tuo investimento. \nPartecipando all’evento della durata di mezza giornata potrai: \n\nScoprire tutte le funzionalità della Piattaforma Versiv\nRicevere un approfondimento sulla certificazione delle infrastrutture e sulla ottimizzazione dei processi\nAvere una dimostrazione eseguita da un esperto Fluke Networks della nuova soluzione LinkWare Live SaaS\nAvere a tua disposizione esempi delle più recenti opzioni Versiv\, miglioramenti e accessori da esaminare e vedere in funzione durante la sessione\n\n  \nIl programma \n\nIntroduzione e presentazione Asit\nIntroduzione alla Piattaforma Versiv\nStandard\nCertificazione rame: 4 step\, MPTL\, TCL\, Reistenza PoE\nCertificazione fibra ottica: 4 step\, OLTS\, OTDR\nPausa caffè\nLWL – SAAS\nServizio gold\nDemo Lab\n\n
URL:https://www.asit.it/evento/fluke-open-day-3/
LOCATION:ASIT Miliano\, Edificio Betulla\, Via Torri Bianche 10\, Vimercate\, 20871\, Italia
ATTACH;FMTTYPE=image/jpeg:https://www.asit.it/wp-content/uploads/2019/02/asit_fluke.jpg
ORGANIZER;CN="ASIT%20SPA":MAILTO:marketing@asit.it
END:VEVENT
END:VCALENDAR