
BEGIN:VCALENDAR
VERSION:2.0
PRODID:-//Asit Online Store - ECPv4.9.14//NONSGML v1.0//EN
CALSCALE:GREGORIAN
METHOD:PUBLISH
X-WR-CALNAME:Asit Online Store
X-ORIGINAL-URL:https://www.asit.it
X-WR-CALDESC:Eventi per Asit Online Store
BEGIN:VTIMEZONE
TZID:UTC
BEGIN:STANDARD
TZOFFSETFROM:+0000
TZOFFSETTO:+0000
TZNAME:UTC
DTSTART:20190101T000000
END:STANDARD
END:VTIMEZONE
BEGIN:VEVENT
DTSTART;TZID=UTC:20190311T103000
DTEND;TZID=UTC:20190311T113000
DTSTAMP:20260423T151006
CREATED:20190225T102711Z
LAST-MODIFIED:20190305T080513Z
UID:27752-1552300200-1552303800@www.asit.it
SUMMARY:Lifesize | Webinar
DESCRIPTION:I luoghi di lavoro sono cambiati\, le sale per il lavoro in team sono diventate più piccole\, gli utenti si aspettano interoperabilità e flessibilità tra i diversi strumenti IT\, la forza lavoro è in rapida trasformazione: sono questi i principali cambiamenti in atto nel mercato dell’Unified Communications & Collaboration. \nOggi la comunicazione video ha assunto un ruolo fondamentale per la collaborazione all’interno e all’esterno delle aziende. \nAsit è lieta di invitarti a partecipare ad un webinar dedicato alla presentazione delle innovazioni che Lifesize\, azienda leader del settore\, sta portando sul mercato: \n\nLa videoconferenza a 4K debutta con Icon 700\nL’integrazione fra Lifesize Cloud e Microsoft Teams è ormai realtà\nLifesize Share diventa anche uno strumento per la digital signage\nSono pronte nuove soluzioni per le huddle room ovvero le sale riunioni più piccole\n\nIl webinar verrà fatto utilizzando la piattaforma Lifesize Cloud; potrai così interagire con i relatori (Elena Semplici – Product Manager UCC di Asit e Andrea Pierani – Sales Engineer di Lifesize) che forniranno alcuni spunti su come proporre e vendere le soluzioni di videoconferenza. \nIscriviti all’evento\, riceverai in seguito le istruzioni per accedere al webinar. \nIscriviti all’evento \n
URL:https://www.asit.it/evento/asit-lifesize-webinar/
ATTACH;FMTTYPE=image/png:https://www.asit.it/wp-content/uploads/2019/02/lifesize_webinar-1-1.png
ORGANIZER;CN="ASIT%20SPA":MAILTO:marketing@asit.it
END:VEVENT
END:VCALENDAR